BEGIN:VCALENDAR
VERSION:2.0
PRODID:-//ChamberMaster//Event Calendar 2.0//EN
METHOD:PUBLISH
X-PUBLISHED-TTL:P3D
REFRESH-INTERVAL:P3D
CALSCALE:GREGORIAN
BEGIN:VEVENT
DTSTART:20240807T220000Z
DTEND:20240808T003000Z
X-MICROSOFT-CDO-ALLDAYEVENT:FALSE
SUMMARY:Back to School Bash
DESCRIPTION:Join us for an evening of free food\, games\, inflatables\, water slides and more.
X-ALT-DESC;FMTTYPE=text/html:Join us for an evening of free food\, games\, inflatables\, water slides and more.
LOCATION:Bethlehem Baptist Church 5081 Bethlehem Road Springfield\, TN
UID:e.1306.7634
SEQUENCE:3
DTSTAMP:20260425T233734Z
URL:http://whitehousechamber.chambermaster.com/events/details/back-to-school-bash-7634
END:VEVENT

END:VCALENDAR
