BEGIN:VCALENDAR
VERSION:2.0
PRODID:-//ChamberMaster//Event Calendar 2.0//EN
METHOD:PUBLISH
X-PUBLISHED-TTL:P3D
REFRESH-INTERVAL:P3D
CALSCALE:GREGORIAN
BEGIN:VEVENT
DTSTART:20181027T140000Z
DTEND:20181027T200000Z
X-MICROSOFT-CDO-ALLDAYEVENT:FALSE
SUMMARY:Fall Extravaganza 2015
DESCRIPTION:Variety of crafts\, jewelry\, fine art\, boutique clothes\, and d cor. Bake Sale\, Freezer Pleezers\, lunch\, and silent auction. Free Admission. UMW Proceeds support local programs: Homebound Meals\, Samaritan Center\, Community Child Care Center\, Salvus Center\, School Backpack and Tennis Shoe programs\, Sumner County CASA\, Shalom Zone\, Home Safe\, Bethlehem Center\, Community Care Fellowship\, Miriam's Promise\, and Room in the Inn.
X-ALT-DESC;FMTTYPE=text/html:Variety of crafts\, jewelry\, fine art\, boutique clothes\, and d&eacute\;cor. Bake Sale\, Freezer Pleezers\, lunch\, and silent auction. Free Admission. UMW Proceeds support local programs: Homebound Meals\, Samaritan Center\, Community Child Care Center\, Salvus Center\, School Backpack and Tennis Shoe programs\, Sumner County CASA\, Shalom Zone\, Home Safe\, Bethlehem Center\, Community Care Fellowship\, Miriam&rsquo\;s Promise\, and Room in the Inn.
LOCATION:HENDERSONVILLE FIRST UNITED METHODIST CHURCH 217 E Main St\, Hendersonville\, TN 37075
UID:e.1306.5332
SEQUENCE:3
DTSTAMP:20260421T031938Z
URL:http://whitehousechamber.chambermaster.com/events/details/fall-extravaganza-2015-5332
END:VEVENT

END:VCALENDAR
