BEGIN:VCALENDAR
VERSION:2.0
PRODID:-//ChamberMaster//Event Calendar 2.0//EN
METHOD:PUBLISH
X-PUBLISHED-TTL:P3D
REFRESH-INTERVAL:P3D
CALSCALE:GREGORIAN
BEGIN:VEVENT
DTSTART:20181106T150000Z
DTEND:20181106T200000Z
X-MICROSOFT-CDO-ALLDAYEVENT:FALSE
SUMMARY:Open Studio
DESCRIPTION:Beginning August 7th 9:00 - 2:00 pm.  \nArtisans - Ages 15 - Adult.\n\nThis is a chance for you to get away from the things of daily life that distract you from your art! We are providing the opportunity and space to make this happen.\n\nOpen Studio begins Tuesday\, August 7\, 9:00 - 2:00 pm\n\nAges 15 - Adult. $5 per week. Bring your own project and supplies.\n\nThere is no instruction at Open Studio - just you and your art\,\nVisit www.willowoakarts.org  or call 615-380-8071
X-ALT-DESC;FMTTYPE=text/html:<span style="font-size:10.5pt">Beginning August 7th 9:00 - 2:00 pm.&nbsp\; </span>\n<p>Artisans - Ages 15 - Adult.</p>\n\n<p>This is a chance for you to get away from the things of daily life that distract you from your art! We are providing the opportunity and space to make this happen.</p>\n\n<p>Open Studio begins Tuesday\, August 7\, 9:00 - 2:00 pm<br />\nAges 15 - Adult. $5 per week. Bring your own project and supplies.</p>\n\n<p>There is no instruction at Open Studio - just you and your art\,</p>\n<span style="font-size:10.5pt">Visit </span><a href="http://www.willowoakarts.org/"><span style="font-size:10.5pt">www.willowoakarts.org</span></a><span style="font-size:10.5pt">&nbsp\; or call 615-380-8071&nbsp\; &nbsp\;</span>
LOCATION:Willow Oak Center for Arts & Learning 726 South Main Street Springfield\, TN 37172 615-380-8071
UID:e.1306.5351
SEQUENCE:3
DTSTAMP:20260420T205152Z
URL:http://whitehousechamber.chambermaster.com/events/details/open-studio-11-06-2018-5351
END:VEVENT

END:VCALENDAR
