BEGIN:VCALENDAR
VERSION:2.0
PRODID:-//ChamberMaster//Event Calendar 2.0//EN
METHOD:PUBLISH
X-PUBLISHED-TTL:P3D
REFRESH-INTERVAL:P3D
CALSCALE:GREGORIAN
BEGIN:VEVENT
DTSTART:20231111T140000Z
DTEND:20231111T160000Z
X-MICROSOFT-CDO-ALLDAYEVENT:FALSE
SUMMARY:Pancake Breakfast
DESCRIPTION:American Legion Post 206 is hosting a Pancake Breakfast on Veteran's Day. Enjoy a delicious breakfast for a donation to their programs.
X-ALT-DESC;FMTTYPE=text/html:American Legion Post 206 is hosting a Pancake Breakfast on Veteran&#39\;s Day. Enjoy a delicious breakfast for a donation to their programs.&nbsp\;
LOCATION:American Legion Post 206 3321 Highway 31W White House\, TN 37188
UID:e.1306.7331
SEQUENCE:3
DTSTAMP:20260422T214303Z
URL:http://whitehousechamber.chambermaster.com/events/details/pancake-breakfast-7331
END:VEVENT

END:VCALENDAR
