BEGIN:VCALENDAR
VERSION:2.0
PRODID:-//ChamberMaster//Event Calendar 2.0//EN
METHOD:PUBLISH
X-PUBLISHED-TTL:P3D
REFRESH-INTERVAL:P3D
CALSCALE:GREGORIAN
BEGIN:VEVENT
DTSTART:20250418T150000Z
DTEND:20250418T160000Z
X-MICROSOFT-CDO-ALLDAYEVENT:FALSE
SUMMARY:Whataburger Easter Egg Hunt
DESCRIPTION:Whataburger Easter Egg Hunt  \n\n  April 18\, 2025\n\n  10:00 AM   11:00 AM\n\n  701 Highway 76\, White House\, TN\n\nHop on over to Whataburger's brand-new White House location for a fun-filled Easter Egg Hunt before the doors officially open!   This free one-hour event is packed with family-friendly fun\, music\, treats\, and plenty of egg-citement for all ages. Bring the kids\, bring your appetite\, and help us celebrate a warm welcome to the neighborhood!\n\n  Let's kick off the weekend together with good vibes\, great people\, and a whole lot of eggs!\n\n  Questions? Contact David Robbins at drobbins@wbhq.com
X-ALT-DESC;FMTTYPE=text/html:<p data-end="272" data-start="140">&#128035\; <strong data-end="174" data-start="143">Whataburger Easter Egg Hunt</strong> &#129530\;<br data-end="180" data-start="177" />\n&#128197\; <strong data-end="201" data-start="183">April 18\, 2025</strong><br data-end="204" data-start="201" />\n&#9200\; <strong data-end="229" data-start="206">10:00 AM &ndash\; 11:00 AM</strong><br data-end="232" data-start="229" />\n&#128205\; <strong data-end="270" data-is-only-node="" data-start="235">701 Highway 76\, White House\, TN</strong></p>\n\n<p data-end="619" data-start="274">Hop on over to Whataburger&rsquo\;s brand-new White House location for a fun-filled Easter Egg Hunt before the doors officially open! &#129505\; This <em data-end="415" data-start="409">free</em> one-hour event is packed with family-friendly fun\, music\, treats\, and plenty of egg-citement for all ages. Bring the kids\, bring your appetite\, and help us celebrate a warm welcome to the neighborhood!</p>\n\n<p data-end="717" data-start="621">&#127881\; Let&rsquo\;s kick off the weekend together with good vibes\, great people\, and a whole lot of eggs!</p>\n\n<p data-end="783" data-start="719">&#128233\; <strong data-end="736" data-start="722">Questions?</strong> Contact David Robbins at <strong data-end="783" data-start="762"><a data-end="781" data-start="764" rel="noopener">drobbins@wbhq.com</a></strong></p>\n
LOCATION:701 Highway 76\, White House\, TN
UID:e.1306.7785
SEQUENCE:3
DTSTAMP:20260424T212441Z
URL:http://whitehousechamber.chambermaster.com/events/details/whataburger-easter-egg-hunt-7785
END:VEVENT

END:VCALENDAR
